BEGIN:VCALENDAR
VERSION:2.0
PRODID:-//Kent and Sussex Crematorium - ECPv6.15.14//NONSGML v1.0//EN
CALSCALE:GREGORIAN
METHOD:PUBLISH
X-ORIGINAL-URL:https://kentandsussexcrematorium.com
X-WR-CALDESC:Events for Kent and Sussex Crematorium
REFRESH-INTERVAL;VALUE=DURATION:PT1H
X-Robots-Tag:noindex
X-PUBLISHED-TTL:PT1H
BEGIN:VTIMEZONE
TZID:UTC
BEGIN:STANDARD
TZOFFSETFROM:+0000
TZOFFSETTO:+0000
TZNAME:UTC
DTSTART:20250101T000000
END:STANDARD
END:VTIMEZONE
BEGIN:VEVENT
DTSTART;TZID=UTC:20260424T100000
DTEND;TZID=UTC:20260424T104500
DTSTAMP:20260424T133231
CREATED:20260423T152259Z
LAST-MODIFIED:20260423T152259Z
UID:26740-1777024800-1777027500@kentandsussexcrematorium.com
SUMMARY:Hugh Mark Gordon Liversedge
DESCRIPTION:
URL:https://kentandsussexcrematorium.com/service/hugh-mark-gordon-liversedge/
LOCATION:Crematorium Chapel
CATEGORIES:Cremation Service
END:VEVENT
BEGIN:VEVENT
DTSTART;TZID=UTC:20260424T104500
DTEND;TZID=UTC:20260424T113000
DTSTAMP:20260424T133231
CREATED:20260423T135204Z
LAST-MODIFIED:20260423T152259Z
UID:26731-1777027500-1777030200@kentandsussexcrematorium.com
SUMMARY:Betty Brodie Munro Jenkins
DESCRIPTION:
URL:https://kentandsussexcrematorium.com/service/betty-brodie-munro-jenkins/
LOCATION:Crematorium Chapel
CATEGORIES:Cremation Service
END:VEVENT
BEGIN:VEVENT
DTSTART;TZID=UTC:20260424T113000
DTEND;TZID=UTC:20260424T121500
DTSTAMP:20260424T133231
CREATED:20260423T135203Z
LAST-MODIFIED:20260423T152259Z
UID:26730-1777030200-1777032900@kentandsussexcrematorium.com
SUMMARY:Gilbert Lionel Wright
DESCRIPTION:
URL:https://kentandsussexcrematorium.com/service/gilbert-lionel-wright/
LOCATION:Crematorium Chapel
CATEGORIES:Cremation Service
END:VEVENT
BEGIN:VEVENT
DTSTART;TZID=UTC:20260424T121500
DTEND;TZID=UTC:20260424T130000
DTSTAMP:20260424T133231
CREATED:20260423T135202Z
LAST-MODIFIED:20260423T152257Z
UID:26729-1777032900-1777035600@kentandsussexcrematorium.com
SUMMARY:Angela Phyllis Dawson Walters
DESCRIPTION:
URL:https://kentandsussexcrematorium.com/service/angela-phyllis-dawson-walters/
LOCATION:Crematorium Chapel
CATEGORIES:Cremation Service
END:VEVENT
BEGIN:VEVENT
DTSTART;TZID=UTC:20260424T130000
DTEND;TZID=UTC:20260424T134500
DTSTAMP:20260424T133231
CREATED:20260423T135202Z
LAST-MODIFIED:20260423T152257Z
UID:26728-1777035600-1777038300@kentandsussexcrematorium.com
SUMMARY:Brenda Daisy Strange
DESCRIPTION:
URL:https://kentandsussexcrematorium.com/service/brenda-daisy-strange/
LOCATION:Crematorium Chapel
CATEGORIES:Cremation Service
END:VEVENT
BEGIN:VEVENT
DTSTART;TZID=UTC:20260424T134500
DTEND;TZID=UTC:20260424T143000
DTSTAMP:20260424T133231
CREATED:20260423T135202Z
LAST-MODIFIED:20260423T152257Z
UID:26727-1777038300-1777041000@kentandsussexcrematorium.com
SUMMARY:Shelia May Randle
DESCRIPTION:
URL:https://kentandsussexcrematorium.com/service/shelia-may-randle/
LOCATION:Crematorium Chapel
CATEGORIES:Cremation Service
END:VEVENT
BEGIN:VEVENT
DTSTART;TZID=UTC:20260424T143000
DTEND;TZID=UTC:20260424T151500
DTSTAMP:20260424T133231
CREATED:20260423T135202Z
LAST-MODIFIED:20260423T152257Z
UID:26726-1777041000-1777043700@kentandsussexcrematorium.com
SUMMARY:Joan Milner
DESCRIPTION:
URL:https://kentandsussexcrematorium.com/service/joan-milner/
LOCATION:Crematorium Chapel
CATEGORIES:Cremation Service
END:VEVENT
BEGIN:VEVENT
DTSTART;TZID=UTC:20260424T151500
DTEND;TZID=UTC:20260424T160000
DTSTAMP:20260424T133231
CREATED:20260423T135201Z
LAST-MODIFIED:20260423T152257Z
UID:26725-1777043700-1777046400@kentandsussexcrematorium.com
SUMMARY:Evelyn Margaret Finch
DESCRIPTION:
URL:https://kentandsussexcrematorium.com/service/evelyn-margaret-finch/
LOCATION:Crematorium Chapel
CATEGORIES:Cremation Service
END:VEVENT
END:VCALENDAR