BEGIN:VCALENDAR
VERSION:2.0
PRODID:-//Kent and Sussex Crematorium - ECPv6.15.14//NONSGML v1.0//EN
CALSCALE:GREGORIAN
METHOD:PUBLISH
X-WR-CALNAME:Kent and Sussex Crematorium
X-ORIGINAL-URL:https://kentandsussexcrematorium.com
X-WR-CALDESC:Events for Kent and Sussex Crematorium
REFRESH-INTERVAL;VALUE=DURATION:PT1H
X-Robots-Tag:noindex
X-PUBLISHED-TTL:PT1H
BEGIN:VTIMEZONE
TZID:UTC
BEGIN:STANDARD
TZOFFSETFROM:+0000
TZOFFSETTO:+0000
TZNAME:UTC
DTSTART:20250101T000000
END:STANDARD
END:VTIMEZONE
BEGIN:VEVENT
DTSTART;TZID=UTC:20260212T100000
DTEND;TZID=UTC:20260212T104500
DTSTAMP:20260420T122203
CREATED:20260211T091726Z
LAST-MODIFIED:20260211T155015Z
UID:26164-1770890400-1770893100@kentandsussexcrematorium.com
SUMMARY:Rowan Anderson Wilson
DESCRIPTION:
URL:https://kentandsussexcrematorium.com/service/rowan-anderson-wilson/
LOCATION:Crematorium Chapel
CATEGORIES:Cremation Service
END:VEVENT
BEGIN:VEVENT
DTSTART;TZID=UTC:20260212T113000
DTEND;TZID=UTC:20260212T121500
DTSTAMP:20260420T122203
CREATED:20260211T091725Z
LAST-MODIFIED:20260211T155015Z
UID:26163-1770895800-1770898500@kentandsussexcrematorium.com
SUMMARY:Robert William Reeves
DESCRIPTION:
URL:https://kentandsussexcrematorium.com/service/robert-william-reeves/
LOCATION:Crematorium Chapel
CATEGORIES:Cremation Service
END:VEVENT
BEGIN:VEVENT
DTSTART;TZID=UTC:20260212T121500
DTEND;TZID=UTC:20260212T130000
DTSTAMP:20260420T122203
CREATED:20260211T091725Z
LAST-MODIFIED:20260211T155014Z
UID:26162-1770898500-1770901200@kentandsussexcrematorium.com
SUMMARY:Kenneth Alfred Simmons
DESCRIPTION:
URL:https://kentandsussexcrematorium.com/service/kenneth-alfred-simmons/
LOCATION:Crematorium Chapel
CATEGORIES:Cremation Service
END:VEVENT
BEGIN:VEVENT
DTSTART;TZID=UTC:20260212T130000
DTEND;TZID=UTC:20260212T134500
DTSTAMP:20260420T122203
CREATED:20260211T091724Z
LAST-MODIFIED:20260211T155000Z
UID:26161-1770901200-1770903900@kentandsussexcrematorium.com
SUMMARY:Brian Edwin Harwood
DESCRIPTION:
URL:https://kentandsussexcrematorium.com/service/brian-edwin-harwood/
LOCATION:Crematorium Chapel
CATEGORIES:Cremation Service
END:VEVENT
BEGIN:VEVENT
DTSTART;TZID=UTC:20260212T134500
DTEND;TZID=UTC:20260212T143000
DTSTAMP:20260420T122203
CREATED:20260211T091724Z
LAST-MODIFIED:20260211T155000Z
UID:26160-1770903900-1770906600@kentandsussexcrematorium.com
SUMMARY:Monica June West
DESCRIPTION:
URL:https://kentandsussexcrematorium.com/service/monica-june-west/
LOCATION:Crematorium Chapel
CATEGORIES:Cremation Service
END:VEVENT
BEGIN:VEVENT
DTSTART;TZID=UTC:20260212T143000
DTEND;TZID=UTC:20260212T151500
DTSTAMP:20260420T122203
CREATED:20260211T091724Z
LAST-MODIFIED:20260211T155000Z
UID:26159-1770906600-1770909300@kentandsussexcrematorium.com
SUMMARY:William David Spurr
DESCRIPTION:
URL:https://kentandsussexcrematorium.com/service/william-david-spurr/
LOCATION:Crematorium Chapel
CATEGORIES:Cremation Service
END:VEVENT
END:VCALENDAR