BEGIN:VCALENDAR
VERSION:2.0
PRODID:-//Kent and Sussex Crematorium - ECPv6.15.14//NONSGML v1.0//EN
CALSCALE:GREGORIAN
METHOD:PUBLISH
X-ORIGINAL-URL:https://kentandsussexcrematorium.com
X-WR-CALDESC:Events for Kent and Sussex Crematorium
REFRESH-INTERVAL;VALUE=DURATION:PT1H
X-Robots-Tag:noindex
X-PUBLISHED-TTL:PT1H
BEGIN:VTIMEZONE
TZID:UTC
BEGIN:STANDARD
TZOFFSETFROM:+0000
TZOFFSETTO:+0000
TZNAME:UTC
DTSTART:20250101T000000
END:STANDARD
END:VTIMEZONE
BEGIN:VEVENT
DTSTART;TZID=UTC:20260205T104500
DTEND;TZID=UTC:20260205T113000
DTSTAMP:20260420T232830
CREATED:20260204T140447Z
LAST-MODIFIED:20260204T140447Z
UID:26062-1770288300-1770291000@kentandsussexcrematorium.com
SUMMARY:Martin Gardiner Adamson
DESCRIPTION:
URL:https://kentandsussexcrematorium.com/service/martin-gardiner-adamson/
LOCATION:Crematorium Chapel
CATEGORIES:Cremation Service
END:VEVENT
BEGIN:VEVENT
DTSTART;TZID=UTC:20260205T113000
DTEND;TZID=UTC:20260205T121500
DTSTAMP:20260420T232830
CREATED:20260204T140447Z
LAST-MODIFIED:20260205T163823Z
UID:26061-1770291000-1770293700@kentandsussexcrematorium.com
SUMMARY:Natasha Wilkins
DESCRIPTION:
URL:https://kentandsussexcrematorium.com/service/natasha-wilkins/
LOCATION:Crematorium Chapel
CATEGORIES:Cremation Service
END:VEVENT
BEGIN:VEVENT
DTSTART;TZID=UTC:20260205T121500
DTEND;TZID=UTC:20260205T130000
DTSTAMP:20260420T232830
CREATED:20260204T140447Z
LAST-MODIFIED:20260205T163823Z
UID:26060-1770293700-1770296400@kentandsussexcrematorium.com
SUMMARY:Marion Patricia Owens
DESCRIPTION:
URL:https://kentandsussexcrematorium.com/service/marion-patricia-owens/
LOCATION:Crematorium Chapel
CATEGORIES:Cremation Service
END:VEVENT
BEGIN:VEVENT
DTSTART;TZID=UTC:20260205T134500
DTEND;TZID=UTC:20260205T143000
DTSTAMP:20260420T232830
CREATED:20260204T140446Z
LAST-MODIFIED:20260205T163823Z
UID:26059-1770299100-1770301800@kentandsussexcrematorium.com
SUMMARY:Peter Richard Shepherd
DESCRIPTION:
URL:https://kentandsussexcrematorium.com/service/peter-richard-shepherd/
LOCATION:Crematorium Chapel
CATEGORIES:Cremation Service
END:VEVENT
BEGIN:VEVENT
DTSTART;TZID=UTC:20260205T143000
DTEND;TZID=UTC:20260205T151500
DTSTAMP:20260420T232830
CREATED:20260204T140446Z
LAST-MODIFIED:20260205T163823Z
UID:26058-1770301800-1770304500@kentandsussexcrematorium.com
SUMMARY:Colin John Vernon Goodes
DESCRIPTION:
URL:https://kentandsussexcrematorium.com/service/colin-john-vernon-goodes/
LOCATION:Crematorium Chapel
CATEGORIES:Cremation Service
END:VEVENT
END:VCALENDAR