BEGIN:VCALENDAR
VERSION:2.0
PRODID:-//Kent and Sussex Crematorium - ECPv6.15.14//NONSGML v1.0//EN
CALSCALE:GREGORIAN
METHOD:PUBLISH
X-ORIGINAL-URL:https://kentandsussexcrematorium.com
X-WR-CALDESC:Events for Kent and Sussex Crematorium
REFRESH-INTERVAL;VALUE=DURATION:PT1H
X-Robots-Tag:noindex
X-PUBLISHED-TTL:PT1H
BEGIN:VTIMEZONE
TZID:UTC
BEGIN:STANDARD
TZOFFSETFROM:+0000
TZOFFSETTO:+0000
TZNAME:UTC
DTSTART:20250101T000000
END:STANDARD
END:VTIMEZONE
BEGIN:VEVENT
DTSTART;TZID=UTC:20260130T100000
DTEND;TZID=UTC:20260130T104500
DTSTAMP:20260421T084416
CREATED:20260129T160801Z
LAST-MODIFIED:20260130T153107Z
UID:25992-1769767200-1769769900@kentandsussexcrematorium.com
SUMMARY:Gam Bahadur Rana
DESCRIPTION:
URL:https://kentandsussexcrematorium.com/service/gam-bahadur-rana/
LOCATION:Crematorium Chapel
CATEGORIES:Cremation Service
END:VEVENT
BEGIN:VEVENT
DTSTART;TZID=UTC:20260130T104500
DTEND;TZID=UTC:20260130T113000
DTSTAMP:20260421T084416
CREATED:20260129T160801Z
LAST-MODIFIED:20260130T153107Z
UID:25991-1769769900-1769772600@kentandsussexcrematorium.com
SUMMARY:Michael Charles Vogel
DESCRIPTION:
URL:https://kentandsussexcrematorium.com/service/michael-charles-vogel/
LOCATION:Crematorium Chapel
CATEGORIES:Cremation Service
END:VEVENT
BEGIN:VEVENT
DTSTART;TZID=UTC:20260130T110000
DTEND;TZID=UTC:20260130T120000
DTSTAMP:20260421T084416
CREATED:20260129T160801Z
LAST-MODIFIED:20260130T153052Z
UID:25990-1769770800-1769774400@kentandsussexcrematorium.com
SUMMARY:Hilda Beatrice Maud Harris
DESCRIPTION:
URL:https://kentandsussexcrematorium.com/service/hilda-beatrice-maud-harris/
LOCATION:Cemetery Chapel
CATEGORIES:Cremation Service
END:VEVENT
BEGIN:VEVENT
DTSTART;TZID=UTC:20260130T113000
DTEND;TZID=UTC:20260130T121500
DTSTAMP:20260421T084416
CREATED:20260129T160800Z
LAST-MODIFIED:20260130T153052Z
UID:25989-1769772600-1769775300@kentandsussexcrematorium.com
SUMMARY:Joan Sylvia Fenner
DESCRIPTION:
URL:https://kentandsussexcrematorium.com/service/joan-sylvia-fenner/
LOCATION:Crematorium Chapel
CATEGORIES:Cremation Service
END:VEVENT
BEGIN:VEVENT
DTSTART;TZID=UTC:20260130T121500
DTEND;TZID=UTC:20260130T130000
DTSTAMP:20260421T084416
CREATED:20260129T160758Z
LAST-MODIFIED:20260130T153052Z
UID:25988-1769775300-1769778000@kentandsussexcrematorium.com
SUMMARY:Elizabeth Amanda White
DESCRIPTION:
URL:https://kentandsussexcrematorium.com/service/elizabeth-amanda-white/
LOCATION:Crematorium Chapel
CATEGORIES:Cremation Service
END:VEVENT
BEGIN:VEVENT
DTSTART;TZID=UTC:20260130T130000
DTEND;TZID=UTC:20260130T134500
DTSTAMP:20260421T084416
CREATED:20260129T160758Z
LAST-MODIFIED:20260130T153052Z
UID:25987-1769778000-1769780700@kentandsussexcrematorium.com
SUMMARY:David King
DESCRIPTION:
URL:https://kentandsussexcrematorium.com/service/david-king/
LOCATION:Crematorium Chapel
CATEGORIES:Cremation Service
END:VEVENT
BEGIN:VEVENT
DTSTART;TZID=UTC:20260130T134500
DTEND;TZID=UTC:20260130T143000
DTSTAMP:20260421T084416
CREATED:20260129T160758Z
LAST-MODIFIED:20260130T153052Z
UID:25986-1769780700-1769783400@kentandsussexcrematorium.com
SUMMARY:Frederick Walter Williams
DESCRIPTION:
URL:https://kentandsussexcrematorium.com/service/frederick-walter-williams/
LOCATION:Crematorium Chapel
CATEGORIES:Cremation Service
END:VEVENT
BEGIN:VEVENT
DTSTART;TZID=UTC:20260130T143000
DTEND;TZID=UTC:20260130T151500
DTSTAMP:20260421T084416
CREATED:20260129T160758Z
LAST-MODIFIED:20260130T153037Z
UID:25985-1769783400-1769786100@kentandsussexcrematorium.com
SUMMARY:Barbara Hazel Hall
DESCRIPTION:
URL:https://kentandsussexcrematorium.com/service/barbara-hazel-hall/
LOCATION:Crematorium Chapel
CATEGORIES:Cremation Service
END:VEVENT
BEGIN:VEVENT
DTSTART;TZID=UTC:20260130T151500
DTEND;TZID=UTC:20260130T160000
DTSTAMP:20260421T084416
CREATED:20260129T160758Z
LAST-MODIFIED:20260130T153037Z
UID:25984-1769786100-1769788800@kentandsussexcrematorium.com
SUMMARY:Shayne Marilynne Phelps Reason
DESCRIPTION:
URL:https://kentandsussexcrematorium.com/service/shayne-marilynne-phelps-reason/
LOCATION:Crematorium Chapel
CATEGORIES:Cremation Service
END:VEVENT
END:VCALENDAR