BEGIN:VCALENDAR
VERSION:2.0
PRODID:-//Kent and Sussex Crematorium - ECPv6.15.14//NONSGML v1.0//EN
CALSCALE:GREGORIAN
METHOD:PUBLISH
X-WR-CALNAME:Kent and Sussex Crematorium
X-ORIGINAL-URL:https://kentandsussexcrematorium.com
X-WR-CALDESC:Events for Kent and Sussex Crematorium
REFRESH-INTERVAL;VALUE=DURATION:PT1H
X-Robots-Tag:noindex
X-PUBLISHED-TTL:PT1H
BEGIN:VTIMEZONE
TZID:UTC
BEGIN:STANDARD
TZOFFSETFROM:+0000
TZOFFSETTO:+0000
TZNAME:UTC
DTSTART:20250101T000000
END:STANDARD
END:VTIMEZONE
BEGIN:VEVENT
DTSTART;TZID=UTC:20260126T100000
DTEND;TZID=UTC:20260126T110000
DTSTAMP:20260421T190226
CREATED:20260123T154915Z
LAST-MODIFIED:20260126T163746Z
UID:25926-1769421600-1769425200@kentandsussexcrematorium.com
SUMMARY:Linda Andrews
DESCRIPTION:
URL:https://kentandsussexcrematorium.com/service/linda-andrews/
LOCATION:Cemetery Chapel
CATEGORIES:Cremation Service
END:VEVENT
BEGIN:VEVENT
DTSTART;TZID=UTC:20260126T104500
DTEND;TZID=UTC:20260126T113000
DTSTAMP:20260421T190226
CREATED:20260123T154900Z
LAST-MODIFIED:20260126T163746Z
UID:25925-1769424300-1769427000@kentandsussexcrematorium.com
SUMMARY:Ralph Henry Wood
DESCRIPTION:
URL:https://kentandsussexcrematorium.com/service/ralph-henry-wood/
LOCATION:Crematorium Chapel
CATEGORIES:Cremation Service
END:VEVENT
BEGIN:VEVENT
DTSTART;TZID=UTC:20260126T113000
DTEND;TZID=UTC:20260126T121500
DTSTAMP:20260421T190226
CREATED:20260123T154900Z
LAST-MODIFIED:20260126T163746Z
UID:25924-1769427000-1769429700@kentandsussexcrematorium.com
SUMMARY:Kenneth Gavin Grover
DESCRIPTION:
URL:https://kentandsussexcrematorium.com/service/kenneth-gavin-grover/
LOCATION:Crematorium Chapel
CATEGORIES:Cremation Service
END:VEVENT
BEGIN:VEVENT
DTSTART;TZID=UTC:20260126T120000
DTEND;TZID=UTC:20260126T130000
DTSTAMP:20260421T190226
CREATED:20260123T154900Z
LAST-MODIFIED:20260126T163746Z
UID:25923-1769428800-1769432400@kentandsussexcrematorium.com
SUMMARY:Jean Audrey Melford
DESCRIPTION:
URL:https://kentandsussexcrematorium.com/service/jean-audrey-melford/
LOCATION:Cemetery Chapel
CATEGORIES:Cremation Service
END:VEVENT
BEGIN:VEVENT
DTSTART;TZID=UTC:20260126T121500
DTEND;TZID=UTC:20260126T130000
DTSTAMP:20260421T190226
CREATED:20260123T154900Z
LAST-MODIFIED:20260126T163732Z
UID:25922-1769429700-1769432400@kentandsussexcrematorium.com
SUMMARY:Daphne Georgina Smith
DESCRIPTION:
URL:https://kentandsussexcrematorium.com/service/daphne-georgina-smith/
LOCATION:Crematorium Chapel
CATEGORIES:Cremation Service
END:VEVENT
BEGIN:VEVENT
DTSTART;TZID=UTC:20260126T130000
DTEND;TZID=UTC:20260126T134500
DTSTAMP:20260421T190226
CREATED:20260123T154858Z
LAST-MODIFIED:20260126T163732Z
UID:25920-1769432400-1769435100@kentandsussexcrematorium.com
SUMMARY:Terence Clarke
DESCRIPTION:
URL:https://kentandsussexcrematorium.com/service/terence-clarke/
LOCATION:Crematorium Chapel
CATEGORIES:Cremation Service
END:VEVENT
BEGIN:VEVENT
DTSTART;TZID=UTC:20260126T130000
DTEND;TZID=UTC:20260126T140000
DTSTAMP:20260421T190226
CREATED:20260123T154900Z
LAST-MODIFIED:20260126T163732Z
UID:25921-1769432400-1769436000@kentandsussexcrematorium.com
SUMMARY:Kenneth Sutch
DESCRIPTION:
URL:https://kentandsussexcrematorium.com/service/kenneth-sutch/
LOCATION:Cemetery Chapel
CATEGORIES:Cremation Service
END:VEVENT
BEGIN:VEVENT
DTSTART;TZID=UTC:20260126T134500
DTEND;TZID=UTC:20260126T143000
DTSTAMP:20260421T190226
CREATED:20260123T154858Z
LAST-MODIFIED:20260126T163732Z
UID:25919-1769435100-1769437800@kentandsussexcrematorium.com
SUMMARY:Patricia Clare Tennant
DESCRIPTION:
URL:https://kentandsussexcrematorium.com/service/patricia-clare-tennant/
LOCATION:Crematorium Chapel
CATEGORIES:Cremation Service
END:VEVENT
BEGIN:VEVENT
DTSTART;TZID=UTC:20260126T140000
DTEND;TZID=UTC:20260126T150000
DTSTAMP:20260421T190226
CREATED:20260123T154858Z
LAST-MODIFIED:20260126T163732Z
UID:25918-1769436000-1769439600@kentandsussexcrematorium.com
SUMMARY:Arthur Frederick Chaplin
DESCRIPTION:
URL:https://kentandsussexcrematorium.com/service/arthur-frederick-chaplin/
LOCATION:Cemetery Chapel
CATEGORIES:Cremation Service
END:VEVENT
BEGIN:VEVENT
DTSTART;TZID=UTC:20260126T143000
DTEND;TZID=UTC:20260126T151500
DTSTAMP:20260421T190226
CREATED:20260123T154858Z
LAST-MODIFIED:20260126T163716Z
UID:25917-1769437800-1769440500@kentandsussexcrematorium.com
SUMMARY:Jean Mary Smith
DESCRIPTION:
URL:https://kentandsussexcrematorium.com/service/jean-mary-smith/
LOCATION:Crematorium Chapel
CATEGORIES:Cremation Service
END:VEVENT
BEGIN:VEVENT
DTSTART;TZID=UTC:20260126T151500
DTEND;TZID=UTC:20260126T160000
DTSTAMP:20260421T190226
CREATED:20260123T154857Z
LAST-MODIFIED:20260126T163716Z
UID:25916-1769440500-1769443200@kentandsussexcrematorium.com
SUMMARY:Elaine Marie Stainton
DESCRIPTION:
URL:https://kentandsussexcrematorium.com/service/elaine-marie-stainton/
LOCATION:Crematorium Chapel
CATEGORIES:Cremation Service
END:VEVENT
END:VCALENDAR