BEGIN:VCALENDAR
VERSION:2.0
PRODID:-//Kent and Sussex Crematorium - ECPv6.15.14//NONSGML v1.0//EN
CALSCALE:GREGORIAN
METHOD:PUBLISH
X-WR-CALNAME:Kent and Sussex Crematorium
X-ORIGINAL-URL:https://kentandsussexcrematorium.com
X-WR-CALDESC:Events for Kent and Sussex Crematorium
REFRESH-INTERVAL;VALUE=DURATION:PT1H
X-Robots-Tag:noindex
X-PUBLISHED-TTL:PT1H
BEGIN:VTIMEZONE
TZID:UTC
BEGIN:STANDARD
TZOFFSETFROM:+0000
TZOFFSETTO:+0000
TZNAME:UTC
DTSTART:20250101T000000
END:STANDARD
END:VTIMEZONE
BEGIN:VEVENT
DTSTART;TZID=UTC:20260122T104500
DTEND;TZID=UTC:20260122T113000
DTSTAMP:20260422T013633
CREATED:20260121T150215Z
LAST-MODIFIED:20260121T150215Z
UID:25878-1769078700-1769081400@kentandsussexcrematorium.com
SUMMARY:Michael Fred Humphrey
DESCRIPTION:
URL:https://kentandsussexcrematorium.com/service/michael-fred-humphrey/
LOCATION:Crematorium Chapel
CATEGORIES:Cremation Service
END:VEVENT
BEGIN:VEVENT
DTSTART;TZID=UTC:20260122T110000
DTEND;TZID=UTC:20260122T120000
DTSTAMP:20260422T013633
CREATED:20260121T150215Z
LAST-MODIFIED:20260121T150215Z
UID:25877-1769079600-1769083200@kentandsussexcrematorium.com
SUMMARY:Nicholas James Carney
DESCRIPTION:
URL:https://kentandsussexcrematorium.com/service/nicholas-james-carney/
LOCATION:Cemetery Chapel
CATEGORIES:Cremation Service
END:VEVENT
BEGIN:VEVENT
DTSTART;TZID=UTC:20260122T113000
DTEND;TZID=UTC:20260122T121500
DTSTAMP:20260422T013633
CREATED:20260121T150212Z
LAST-MODIFIED:20260121T150212Z
UID:25876-1769081400-1769084100@kentandsussexcrematorium.com
SUMMARY:Barbara Ann Pilbeam
DESCRIPTION:
URL:https://kentandsussexcrematorium.com/service/barbara-ann-pilbeam/
LOCATION:Crematorium Chapel
CATEGORIES:Cremation Service
END:VEVENT
BEGIN:VEVENT
DTSTART;TZID=UTC:20260122T121500
DTEND;TZID=UTC:20260122T130000
DTSTAMP:20260422T013633
CREATED:20260121T150212Z
LAST-MODIFIED:20260122T162221Z
UID:25875-1769084100-1769086800@kentandsussexcrematorium.com
SUMMARY:Edith Mary Ward
DESCRIPTION:
URL:https://kentandsussexcrematorium.com/service/edith-mary-ward/
LOCATION:Crematorium Chapel
CATEGORIES:Cremation Service
END:VEVENT
BEGIN:VEVENT
DTSTART;TZID=UTC:20260122T130000
DTEND;TZID=UTC:20260122T134500
DTSTAMP:20260422T013633
CREATED:20260121T150212Z
LAST-MODIFIED:20260122T162221Z
UID:25874-1769086800-1769089500@kentandsussexcrematorium.com
SUMMARY:Merlyn Allen Neve
DESCRIPTION:
URL:https://kentandsussexcrematorium.com/service/merlyn-allen-neve/
LOCATION:Crematorium Chapel
CATEGORIES:Cremation Service
END:VEVENT
BEGIN:VEVENT
DTSTART;TZID=UTC:20260122T134500
DTEND;TZID=UTC:20260122T143000
DTSTAMP:20260422T013633
CREATED:20260121T150212Z
LAST-MODIFIED:20260122T162220Z
UID:25873-1769089500-1769092200@kentandsussexcrematorium.com
SUMMARY:David Stanley Mountain
DESCRIPTION:
URL:https://kentandsussexcrematorium.com/service/david-stanley-mountain/
LOCATION:Crematorium Chapel
CATEGORIES:Cremation Service
END:VEVENT
BEGIN:VEVENT
DTSTART;TZID=UTC:20260122T150000
DTEND;TZID=UTC:20260122T160000
DTSTAMP:20260422T013633
CREATED:20260121T150212Z
LAST-MODIFIED:20260122T162220Z
UID:25872-1769094000-1769097600@kentandsussexcrematorium.com
SUMMARY:Brian David Law
DESCRIPTION:
URL:https://kentandsussexcrematorium.com/service/brian-david-law/
LOCATION:Cemetery Chapel
CATEGORIES:Cremation Service
END:VEVENT
END:VCALENDAR