BEGIN:VCALENDAR
VERSION:2.0
PRODID:-//Kent and Sussex Crematorium - ECPv6.15.14//NONSGML v1.0//EN
CALSCALE:GREGORIAN
METHOD:PUBLISH
X-ORIGINAL-URL:https://kentandsussexcrematorium.com
X-WR-CALDESC:Events for Kent and Sussex Crematorium
REFRESH-INTERVAL;VALUE=DURATION:PT1H
X-Robots-Tag:noindex
X-PUBLISHED-TTL:PT1H
BEGIN:VTIMEZONE
TZID:UTC
BEGIN:STANDARD
TZOFFSETFROM:+0000
TZOFFSETTO:+0000
TZNAME:UTC
DTSTART:20250101T000000
END:STANDARD
END:VTIMEZONE
BEGIN:VEVENT
DTSTART;TZID=UTC:20260121T104500
DTEND;TZID=UTC:20260121T113000
DTSTAMP:20260422T031442
CREATED:20260120T112119Z
LAST-MODIFIED:20260121T150215Z
UID:25864-1768992300-1768995000@kentandsussexcrematorium.com
SUMMARY:Jill Whitehead
DESCRIPTION:
URL:https://kentandsussexcrematorium.com/service/jill-whitehead/
LOCATION:Crematorium Chapel
CATEGORIES:Cremation Service
END:VEVENT
BEGIN:VEVENT
DTSTART;TZID=UTC:20260121T121500
DTEND;TZID=UTC:20260121T130000
DTSTAMP:20260422T031442
CREATED:20260120T112118Z
LAST-MODIFIED:20260121T150215Z
UID:25863-1768997700-1769000400@kentandsussexcrematorium.com
SUMMARY:Collin Lewis Beesley
DESCRIPTION:
URL:https://kentandsussexcrematorium.com/service/collin-lewis-beesley/
LOCATION:Crematorium Chapel
CATEGORIES:Cremation Service
END:VEVENT
BEGIN:VEVENT
DTSTART;TZID=UTC:20260121T151500
DTEND;TZID=UTC:20260121T160000
DTSTAMP:20260422T031442
CREATED:20260120T112118Z
LAST-MODIFIED:20260121T150215Z
UID:25862-1769008500-1769011200@kentandsussexcrematorium.com
SUMMARY:Michael John Patrick Kenny
DESCRIPTION:
URL:https://kentandsussexcrematorium.com/service/michael-john-patrick-kenny/
LOCATION:Crematorium Chapel
CATEGORIES:Cremation Service
END:VEVENT
END:VCALENDAR