BEGIN:VCALENDAR
VERSION:2.0
PRODID:-//Kent and Sussex Crematorium - ECPv6.15.14//NONSGML v1.0//EN
CALSCALE:GREGORIAN
METHOD:PUBLISH
X-WR-CALNAME:Kent and Sussex Crematorium
X-ORIGINAL-URL:https://kentandsussexcrematorium.com
X-WR-CALDESC:Events for Kent and Sussex Crematorium
REFRESH-INTERVAL;VALUE=DURATION:PT1H
X-Robots-Tag:noindex
X-PUBLISHED-TTL:PT1H
BEGIN:VTIMEZONE
TZID:UTC
BEGIN:STANDARD
TZOFFSETFROM:+0000
TZOFFSETTO:+0000
TZNAME:UTC
DTSTART:20250101T000000
END:STANDARD
END:VTIMEZONE
BEGIN:VEVENT
DTSTART;TZID=UTC:20260120T104500
DTEND;TZID=UTC:20260120T113000
DTSTAMP:20260422T044329
CREATED:20260119T145559Z
LAST-MODIFIED:20260120T112121Z
UID:25856-1768905900-1768908600@kentandsussexcrematorium.com
SUMMARY:Elaine Mary Cleeves
DESCRIPTION:
URL:https://kentandsussexcrematorium.com/service/elaine-mary-cleeves/
LOCATION:Crematorium Chapel
CATEGORIES:Cremation Service
END:VEVENT
BEGIN:VEVENT
DTSTART;TZID=UTC:20260120T113000
DTEND;TZID=UTC:20260120T121500
DTSTAMP:20260422T044329
CREATED:20260119T145559Z
LAST-MODIFIED:20260120T112121Z
UID:25855-1768908600-1768911300@kentandsussexcrematorium.com
SUMMARY:Christopher Graham Stock
DESCRIPTION:
URL:https://kentandsussexcrematorium.com/service/christopher-graham-stock/
LOCATION:Crematorium Chapel
CATEGORIES:Cremation Service
END:VEVENT
BEGIN:VEVENT
DTSTART;TZID=UTC:20260120T130000
DTEND;TZID=UTC:20260120T134500
DTSTAMP:20260422T044329
CREATED:20260119T145558Z
LAST-MODIFIED:20260120T112121Z
UID:25854-1768914000-1768916700@kentandsussexcrematorium.com
SUMMARY:Keith Bertram Wenman
DESCRIPTION:
URL:https://kentandsussexcrematorium.com/service/keith-bertram-wenman/
LOCATION:Crematorium Chapel
CATEGORIES:Cremation Service
END:VEVENT
BEGIN:VEVENT
DTSTART;TZID=UTC:20260120T134500
DTEND;TZID=UTC:20260120T143000
DTSTAMP:20260422T044329
CREATED:20260119T145558Z
LAST-MODIFIED:20260120T112119Z
UID:25853-1768916700-1768919400@kentandsussexcrematorium.com
SUMMARY:Rev Wendy Janet Izod
DESCRIPTION:
URL:https://kentandsussexcrematorium.com/service/rev-wendy-janet-izod/
LOCATION:Crematorium Chapel
CATEGORIES:Cremation Service
END:VEVENT
BEGIN:VEVENT
DTSTART;TZID=UTC:20260120T143000
DTEND;TZID=UTC:20260120T151500
DTSTAMP:20260422T044329
CREATED:20260119T145558Z
LAST-MODIFIED:20260120T112119Z
UID:25852-1768919400-1768922100@kentandsussexcrematorium.com
SUMMARY:Patrick Harry Green
DESCRIPTION:
URL:https://kentandsussexcrematorium.com/service/patrick-harry-green/
LOCATION:Crematorium Chapel
CATEGORIES:Cremation Service
END:VEVENT
END:VCALENDAR