BEGIN:VCALENDAR
VERSION:2.0
PRODID:-//Kent and Sussex Crematorium - ECPv6.15.14//NONSGML v1.0//EN
CALSCALE:GREGORIAN
METHOD:PUBLISH
X-WR-CALNAME:Kent and Sussex Crematorium
X-ORIGINAL-URL:https://kentandsussexcrematorium.com
X-WR-CALDESC:Events for Kent and Sussex Crematorium
REFRESH-INTERVAL;VALUE=DURATION:PT1H
X-Robots-Tag:noindex
X-PUBLISHED-TTL:PT1H
BEGIN:VTIMEZONE
TZID:UTC
BEGIN:STANDARD
TZOFFSETFROM:+0000
TZOFFSETTO:+0000
TZNAME:UTC
DTSTART:20250101T000000
END:STANDARD
END:VTIMEZONE
BEGIN:VEVENT
DTSTART;TZID=UTC:20260119T090000
DTEND;TZID=UTC:20260119T093000
DTSTAMP:20260422T060327
CREATED:20260116T160011Z
LAST-MODIFIED:20260119T145601Z
UID:25837-1768813200-1768815000@kentandsussexcrematorium.com
SUMMARY:Wendy Elizabeth Sizer
DESCRIPTION:
URL:https://kentandsussexcrematorium.com/service/wendy-elizabeth-sizer/
LOCATION:Crematorium Chapel
CATEGORIES:Cremation Service
END:VEVENT
BEGIN:VEVENT
DTSTART;TZID=UTC:20260119T113000
DTEND;TZID=UTC:20260119T121500
DTSTAMP:20260422T060327
CREATED:20260116T160010Z
LAST-MODIFIED:20260119T145601Z
UID:25836-1768822200-1768824900@kentandsussexcrematorium.com
SUMMARY:Edwin Leslie Frogley
DESCRIPTION:
URL:https://kentandsussexcrematorium.com/service/edwin-leslie-frogley/
LOCATION:Crematorium Chapel
CATEGORIES:Cremation Service
END:VEVENT
BEGIN:VEVENT
DTSTART;TZID=UTC:20260119T120000
DTEND;TZID=UTC:20260119T130000
DTSTAMP:20260422T060327
CREATED:20260116T160010Z
LAST-MODIFIED:20260119T145601Z
UID:25835-1768824000-1768827600@kentandsussexcrematorium.com
SUMMARY:Roger Hugh Rendall Darby
DESCRIPTION:
URL:https://kentandsussexcrematorium.com/service/roger-hugh-rendall-darby/
LOCATION:Cemetery Chapel
CATEGORIES:Cremation Service
END:VEVENT
BEGIN:VEVENT
DTSTART;TZID=UTC:20260119T151500
DTEND;TZID=UTC:20260119T160000
DTSTAMP:20260422T060327
CREATED:20260116T160010Z
LAST-MODIFIED:20260119T145601Z
UID:25834-1768835700-1768838400@kentandsussexcrematorium.com
SUMMARY:Jean Simmons
DESCRIPTION:
URL:https://kentandsussexcrematorium.com/service/jean-simmons/
LOCATION:Crematorium Chapel
CATEGORIES:Cremation Service
END:VEVENT
END:VCALENDAR