BEGIN:VCALENDAR
VERSION:2.0
PRODID:-//Kent and Sussex Crematorium - ECPv6.15.14//NONSGML v1.0//EN
CALSCALE:GREGORIAN
METHOD:PUBLISH
X-WR-CALNAME:Kent and Sussex Crematorium
X-ORIGINAL-URL:https://kentandsussexcrematorium.com
X-WR-CALDESC:Events for Kent and Sussex Crematorium
REFRESH-INTERVAL;VALUE=DURATION:PT1H
X-Robots-Tag:noindex
X-PUBLISHED-TTL:PT1H
BEGIN:VTIMEZONE
TZID:UTC
BEGIN:STANDARD
TZOFFSETFROM:+0000
TZOFFSETTO:+0000
TZNAME:UTC
DTSTART:20250101T000000
END:STANDARD
END:VTIMEZONE
BEGIN:VEVENT
DTSTART;TZID=UTC:20260116T100000
DTEND;TZID=UTC:20260116T104500
DTSTAMP:20260424T103019
CREATED:20260115T161800Z
LAST-MODIFIED:20260115T161800Z
UID:25822-1768557600-1768560300@kentandsussexcrematorium.com
SUMMARY:Mary Collins King Foster
DESCRIPTION:
URL:https://kentandsussexcrematorium.com/service/mary-collins-king-foster/
LOCATION:Crematorium Chapel
CATEGORIES:Cremation Service
END:VEVENT
BEGIN:VEVENT
DTSTART;TZID=UTC:20260116T100000
DTEND;TZID=UTC:20260116T110000
DTSTAMP:20260424T103019
CREATED:20260115T161800Z
LAST-MODIFIED:20260115T161800Z
UID:25823-1768557600-1768561200@kentandsussexcrematorium.com
SUMMARY:Eric Charles Hancock
DESCRIPTION:
URL:https://kentandsussexcrematorium.com/service/eric-charles-hancock/
LOCATION:Cemetery Chapel
CATEGORIES:Cremation Service
END:VEVENT
BEGIN:VEVENT
DTSTART;TZID=UTC:20260116T104500
DTEND;TZID=UTC:20260116T113000
DTSTAMP:20260424T103019
CREATED:20260115T161800Z
LAST-MODIFIED:20260116T160013Z
UID:25821-1768560300-1768563000@kentandsussexcrematorium.com
SUMMARY:Chloe Anne Phillips
DESCRIPTION:
URL:https://kentandsussexcrematorium.com/service/chloe-anne-phillips/
LOCATION:Crematorium Chapel
CATEGORIES:Cremation Service
END:VEVENT
BEGIN:VEVENT
DTSTART;TZID=UTC:20260116T113000
DTEND;TZID=UTC:20260116T121500
DTSTAMP:20260424T103019
CREATED:20260115T161758Z
LAST-MODIFIED:20260116T160013Z
UID:25820-1768563000-1768565700@kentandsussexcrematorium.com
SUMMARY:Leslie Colin Pierce
DESCRIPTION:
URL:https://kentandsussexcrematorium.com/service/leslie-colin-pierce/
LOCATION:Crematorium Chapel
CATEGORIES:Cremation Service
END:VEVENT
BEGIN:VEVENT
DTSTART;TZID=UTC:20260116T121500
DTEND;TZID=UTC:20260116T130000
DTSTAMP:20260424T103019
CREATED:20260115T161758Z
LAST-MODIFIED:20260116T160013Z
UID:25819-1768565700-1768568400@kentandsussexcrematorium.com
SUMMARY:Patricia Ann Hamblett
DESCRIPTION:
URL:https://kentandsussexcrematorium.com/service/patricia-ann-hamblett/
LOCATION:Crematorium Chapel
CATEGORIES:Cremation Service
END:VEVENT
BEGIN:VEVENT
DTSTART;TZID=UTC:20260116T130000
DTEND;TZID=UTC:20260116T134500
DTSTAMP:20260424T103019
CREATED:20260115T161758Z
LAST-MODIFIED:20260116T160013Z
UID:25818-1768568400-1768571100@kentandsussexcrematorium.com
SUMMARY:William Milford
DESCRIPTION:
URL:https://kentandsussexcrematorium.com/service/william-milford/
LOCATION:Crematorium Chapel
CATEGORIES:Cremation Service
END:VEVENT
BEGIN:VEVENT
DTSTART;TZID=UTC:20260116T134500
DTEND;TZID=UTC:20260116T143000
DTSTAMP:20260424T103019
CREATED:20260115T161758Z
LAST-MODIFIED:20260116T160013Z
UID:25817-1768571100-1768573800@kentandsussexcrematorium.com
SUMMARY:Freda May Tuke
DESCRIPTION:
URL:https://kentandsussexcrematorium.com/service/freda-may-tuke/
LOCATION:Crematorium Chapel
CATEGORIES:Cremation Service
END:VEVENT
BEGIN:VEVENT
DTSTART;TZID=UTC:20260116T140000
DTEND;TZID=UTC:20260116T150000
DTSTAMP:20260424T103019
CREATED:20260115T161758Z
LAST-MODIFIED:20260116T160011Z
UID:25816-1768572000-1768575600@kentandsussexcrematorium.com
SUMMARY:Sidney John Shettle
DESCRIPTION:
URL:https://kentandsussexcrematorium.com/service/sidney-john-shettle/
LOCATION:Cemetery Chapel
CATEGORIES:Cremation Service
END:VEVENT
END:VCALENDAR