BEGIN:VCALENDAR
VERSION:2.0
PRODID:-//Kent and Sussex Crematorium - ECPv6.15.14//NONSGML v1.0//EN
CALSCALE:GREGORIAN
METHOD:PUBLISH
X-WR-CALNAME:Kent and Sussex Crematorium
X-ORIGINAL-URL:https://kentandsussexcrematorium.com
X-WR-CALDESC:Events for Kent and Sussex Crematorium
REFRESH-INTERVAL;VALUE=DURATION:PT1H
X-Robots-Tag:noindex
X-PUBLISHED-TTL:PT1H
BEGIN:VTIMEZONE
TZID:UTC
BEGIN:STANDARD
TZOFFSETFROM:+0000
TZOFFSETTO:+0000
TZNAME:UTC
DTSTART:20250101T000000
END:STANDARD
END:VTIMEZONE
BEGIN:VEVENT
DTSTART;TZID=UTC:20260115T100000
DTEND;TZID=UTC:20260115T104500
DTSTAMP:20260424T114206
CREATED:20260114T161529Z
LAST-MODIFIED:20260115T161816Z
UID:25805-1768471200-1768473900@kentandsussexcrematorium.com
SUMMARY:Geoffrey Gordon James
DESCRIPTION:
URL:https://kentandsussexcrematorium.com/service/geoffrey-gordon-james/
LOCATION:Crematorium Chapel
CATEGORIES:Cremation Service
END:VEVENT
BEGIN:VEVENT
DTSTART;TZID=UTC:20260115T104500
DTEND;TZID=UTC:20260115T113000
DTSTAMP:20260424T114206
CREATED:20260114T161527Z
LAST-MODIFIED:20260115T161816Z
UID:25804-1768473900-1768476600@kentandsussexcrematorium.com
SUMMARY:John Pope
DESCRIPTION:
URL:https://kentandsussexcrematorium.com/service/john-pope/
LOCATION:Crematorium Chapel
CATEGORIES:Cremation Service
END:VEVENT
BEGIN:VEVENT
DTSTART;TZID=UTC:20260115T113000
DTEND;TZID=UTC:20260115T121500
DTSTAMP:20260424T114206
CREATED:20260114T161526Z
LAST-MODIFIED:20260115T161816Z
UID:25803-1768476600-1768479300@kentandsussexcrematorium.com
SUMMARY:Avril Carol Ann Chapple
DESCRIPTION:
URL:https://kentandsussexcrematorium.com/service/avril-carol-ann-chapple/
LOCATION:Crematorium Chapel
CATEGORIES:Cremation Service
END:VEVENT
BEGIN:VEVENT
DTSTART;TZID=UTC:20260115T130000
DTEND;TZID=UTC:20260115T134500
DTSTAMP:20260424T114206
CREATED:20260114T161526Z
LAST-MODIFIED:20260115T161815Z
UID:25802-1768482000-1768484700@kentandsussexcrematorium.com
SUMMARY:Michael John Blunden
DESCRIPTION:
URL:https://kentandsussexcrematorium.com/service/michael-john-blunden/
LOCATION:Crematorium Chapel
CATEGORIES:Cremation Service
END:VEVENT
BEGIN:VEVENT
DTSTART;TZID=UTC:20260115T143000
DTEND;TZID=UTC:20260115T151500
DTSTAMP:20260424T114206
CREATED:20260114T161526Z
LAST-MODIFIED:20260115T161801Z
UID:25801-1768487400-1768490100@kentandsussexcrematorium.com
SUMMARY:Margery Lilian Baker
DESCRIPTION:
URL:https://kentandsussexcrematorium.com/service/margery-lilian-baker/
LOCATION:Crematorium Chapel
CATEGORIES:Cremation Service
END:VEVENT
BEGIN:VEVENT
DTSTART;TZID=UTC:20260115T151500
DTEND;TZID=UTC:20260115T160000
DTSTAMP:20260424T114206
CREATED:20260114T161526Z
LAST-MODIFIED:20260115T161801Z
UID:25800-1768490100-1768492800@kentandsussexcrematorium.com
SUMMARY:Sheila Anne McCrossan
DESCRIPTION:
URL:https://kentandsussexcrematorium.com/service/sheila-anne-mccrossan/
LOCATION:Crematorium Chapel
CATEGORIES:Cremation Service
END:VEVENT
END:VCALENDAR