BEGIN:VCALENDAR
VERSION:2.0
PRODID:-//Kent and Sussex Crematorium - ECPv6.15.14//NONSGML v1.0//EN
CALSCALE:GREGORIAN
METHOD:PUBLISH
X-WR-CALNAME:Kent and Sussex Crematorium
X-ORIGINAL-URL:https://kentandsussexcrematorium.com
X-WR-CALDESC:Events for Kent and Sussex Crematorium
REFRESH-INTERVAL;VALUE=DURATION:PT1H
X-Robots-Tag:noindex
X-PUBLISHED-TTL:PT1H
BEGIN:VTIMEZONE
TZID:UTC
BEGIN:STANDARD
TZOFFSETFROM:+0000
TZOFFSETTO:+0000
TZNAME:UTC
DTSTART:20250101T000000
END:STANDARD
END:VTIMEZONE
BEGIN:VEVENT
DTSTART;TZID=UTC:20260112T104500
DTEND;TZID=UTC:20260112T113000
DTSTAMP:20260424T165259
CREATED:20260109T152734Z
LAST-MODIFIED:20260112T163004Z
UID:25746-1768214700-1768217400@kentandsussexcrematorium.com
SUMMARY:Colin Walter Riley
DESCRIPTION:
URL:https://kentandsussexcrematorium.com/service/colin-walter-riley/
LOCATION:Crematorium Chapel
CATEGORIES:Cremation Service
END:VEVENT
BEGIN:VEVENT
DTSTART;TZID=UTC:20260112T110000
DTEND;TZID=UTC:20260112T120000
DTSTAMP:20260424T165259
CREATED:20260109T152734Z
LAST-MODIFIED:20260112T163004Z
UID:25745-1768215600-1768219200@kentandsussexcrematorium.com
SUMMARY:Elizabeth Rebecca Avery
DESCRIPTION:
URL:https://kentandsussexcrematorium.com/service/elizabeth-rebecca-avery/
LOCATION:Cemetery Chapel
CATEGORIES:Cremation Service
END:VEVENT
BEGIN:VEVENT
DTSTART;TZID=UTC:20260112T113000
DTEND;TZID=UTC:20260112T121500
DTSTAMP:20260424T165259
CREATED:20260109T152732Z
LAST-MODIFIED:20260112T163004Z
UID:25744-1768217400-1768220100@kentandsussexcrematorium.com
SUMMARY:Ian Dudley Todman
DESCRIPTION:
URL:https://kentandsussexcrematorium.com/service/ian-dudley-todman/
LOCATION:Crematorium Chapel
CATEGORIES:Cremation Service
END:VEVENT
BEGIN:VEVENT
DTSTART;TZID=UTC:20260112T130000
DTEND;TZID=UTC:20260112T134500
DTSTAMP:20260424T165259
CREATED:20260109T152731Z
LAST-MODIFIED:20260112T163004Z
UID:25743-1768222800-1768225500@kentandsussexcrematorium.com
SUMMARY:John Scholey
DESCRIPTION:
URL:https://kentandsussexcrematorium.com/service/john-scholey/
LOCATION:Crematorium Chapel
CATEGORIES:Cremation Service
END:VEVENT
BEGIN:VEVENT
DTSTART;TZID=UTC:20260112T134500
DTEND;TZID=UTC:20260112T143000
DTSTAMP:20260424T165259
CREATED:20260109T152731Z
LAST-MODIFIED:20260112T162949Z
UID:25742-1768225500-1768228200@kentandsussexcrematorium.com
SUMMARY:Paul McIndoe
DESCRIPTION:
URL:https://kentandsussexcrematorium.com/service/paul-mcindoe/
LOCATION:Crematorium Chapel
CATEGORIES:Cremation Service
END:VEVENT
BEGIN:VEVENT
DTSTART;TZID=UTC:20260112T140000
DTEND;TZID=UTC:20260112T150000
DTSTAMP:20260424T165259
CREATED:20260109T152731Z
LAST-MODIFIED:20260112T162949Z
UID:25741-1768226400-1768230000@kentandsussexcrematorium.com
SUMMARY:Brenda May Strevette
DESCRIPTION:
URL:https://kentandsussexcrematorium.com/service/brenda-may-strevette/
LOCATION:Cemetery Chapel
CATEGORIES:Cremation Service
END:VEVENT
BEGIN:VEVENT
DTSTART;TZID=UTC:20260112T143000
DTEND;TZID=UTC:20260112T151500
DTSTAMP:20260424T165259
CREATED:20260109T152731Z
LAST-MODIFIED:20260112T162949Z
UID:25740-1768228200-1768230900@kentandsussexcrematorium.com
SUMMARY:Diane Bell
DESCRIPTION:
URL:https://kentandsussexcrematorium.com/service/diane-bell/
LOCATION:Crematorium Chapel
CATEGORIES:Cremation Service
END:VEVENT
END:VCALENDAR