BEGIN:VCALENDAR
VERSION:2.0
PRODID:-//Kent and Sussex Crematorium - ECPv6.15.14//NONSGML v1.0//EN
CALSCALE:GREGORIAN
METHOD:PUBLISH
X-WR-CALNAME:Kent and Sussex Crematorium
X-ORIGINAL-URL:https://kentandsussexcrematorium.com
X-WR-CALDESC:Events for Kent and Sussex Crematorium
REFRESH-INTERVAL;VALUE=DURATION:PT1H
X-Robots-Tag:noindex
X-PUBLISHED-TTL:PT1H
BEGIN:VTIMEZONE
TZID:UTC
BEGIN:STANDARD
TZOFFSETFROM:+0000
TZOFFSETTO:+0000
TZNAME:UTC
DTSTART:20250101T000000
END:STANDARD
END:VTIMEZONE
BEGIN:VEVENT
DTSTART;TZID=UTC:20260107T113000
DTEND;TZID=UTC:20260107T121500
DTSTAMP:20260425T010730
CREATED:20260106T151607Z
LAST-MODIFIED:20260107T162232Z
UID:25702-1767785400-1767788100@kentandsussexcrematorium.com
SUMMARY:Lawrence Graham Kapellar
DESCRIPTION:
URL:https://kentandsussexcrematorium.com/service/lawrence-graham-kapellar/
LOCATION:Crematorium Chapel
CATEGORIES:Cremation Service
END:VEVENT
BEGIN:VEVENT
DTSTART;TZID=UTC:20260107T120000
DTEND;TZID=UTC:20260107T130000
DTSTAMP:20260425T010730
CREATED:20260106T151607Z
LAST-MODIFIED:20260107T162232Z
UID:25701-1767787200-1767790800@kentandsussexcrematorium.com
SUMMARY:Penny Jane Molineux
DESCRIPTION:
URL:https://kentandsussexcrematorium.com/service/penny-jane-molineux/
LOCATION:Cemetery Chapel
CATEGORIES:Cremation Service
END:VEVENT
BEGIN:VEVENT
DTSTART;TZID=UTC:20260107T121500
DTEND;TZID=UTC:20260107T130000
DTSTAMP:20260425T010730
CREATED:20260106T151607Z
LAST-MODIFIED:20260107T162232Z
UID:25700-1767788100-1767790800@kentandsussexcrematorium.com
SUMMARY:Marjorie Nellie Dye
DESCRIPTION:
URL:https://kentandsussexcrematorium.com/service/marjorie-nellie-dye/
LOCATION:Crematorium Chapel
CATEGORIES:Cremation Service
END:VEVENT
BEGIN:VEVENT
DTSTART;TZID=UTC:20260107T130000
DTEND;TZID=UTC:20260107T134500
DTSTAMP:20260425T010730
CREATED:20260106T151607Z
LAST-MODIFIED:20260107T162232Z
UID:25699-1767790800-1767793500@kentandsussexcrematorium.com
SUMMARY:Dudley William Pallet
DESCRIPTION:
URL:https://kentandsussexcrematorium.com/service/dudley-william-pallet/
LOCATION:Crematorium Chapel
CATEGORIES:Cremation Service
END:VEVENT
BEGIN:VEVENT
DTSTART;TZID=UTC:20260107T134500
DTEND;TZID=UTC:20260107T143000
DTSTAMP:20260425T010730
CREATED:20260106T151607Z
LAST-MODIFIED:20260107T162230Z
UID:25698-1767793500-1767796200@kentandsussexcrematorium.com
SUMMARY:Cynthia Rhoda Price
DESCRIPTION:
URL:https://kentandsussexcrematorium.com/service/cynthia-rhoda-price/
LOCATION:Crematorium Chapel
CATEGORIES:Cremation Service
END:VEVENT
END:VCALENDAR