BEGIN:VCALENDAR
VERSION:2.0
PRODID:-//Kent and Sussex Crematorium - ECPv6.15.14//NONSGML v1.0//EN
CALSCALE:GREGORIAN
METHOD:PUBLISH
X-WR-CALNAME:Kent and Sussex Crematorium
X-ORIGINAL-URL:https://kentandsussexcrematorium.com
X-WR-CALDESC:Events for Kent and Sussex Crematorium
REFRESH-INTERVAL;VALUE=DURATION:PT1H
X-Robots-Tag:noindex
X-PUBLISHED-TTL:PT1H
BEGIN:VTIMEZONE
TZID:UTC
BEGIN:STANDARD
TZOFFSETFROM:+0000
TZOFFSETTO:+0000
TZNAME:UTC
DTSTART:20250101T000000
END:STANDARD
END:VTIMEZONE
BEGIN:VEVENT
DTSTART;TZID=UTC:20260106T121500
DTEND;TZID=UTC:20260106T130000
DTSTAMP:20260425T030123
CREATED:20260105T153554Z
LAST-MODIFIED:20260106T151609Z
UID:25691-1767701700-1767704400@kentandsussexcrematorium.com
SUMMARY:John Delta
DESCRIPTION:
URL:https://kentandsussexcrematorium.com/service/john-delta/
LOCATION:Crematorium Chapel
CATEGORIES:Cremation Service
END:VEVENT
BEGIN:VEVENT
DTSTART;TZID=UTC:20260106T134500
DTEND;TZID=UTC:20260106T143000
DTSTAMP:20260425T030123
CREATED:20260105T153554Z
LAST-MODIFIED:20260106T151609Z
UID:25690-1767707100-1767709800@kentandsussexcrematorium.com
SUMMARY:Denise Jean Bentley
DESCRIPTION:
URL:https://kentandsussexcrematorium.com/service/denise-jean-bentley/
LOCATION:Crematorium Chapel
CATEGORIES:Cremation Service
END:VEVENT
BEGIN:VEVENT
DTSTART;TZID=UTC:20260106T140000
DTEND;TZID=UTC:20260106T150000
DTSTAMP:20260425T030123
CREATED:20260105T153554Z
LAST-MODIFIED:20260106T151609Z
UID:25689-1767708000-1767711600@kentandsussexcrematorium.com
SUMMARY:Kenneth Charles Finch
DESCRIPTION:
URL:https://kentandsussexcrematorium.com/service/kenneth-charles-finch/
LOCATION:Cemetery Chapel
CATEGORIES:Cremation Service
END:VEVENT
END:VCALENDAR