BEGIN:VCALENDAR
VERSION:2.0
PRODID:-//Kent and Sussex Crematorium - ECPv6.15.14//NONSGML v1.0//EN
CALSCALE:GREGORIAN
METHOD:PUBLISH
X-ORIGINAL-URL:https://kentandsussexcrematorium.com
X-WR-CALDESC:Events for Kent and Sussex Crematorium
REFRESH-INTERVAL;VALUE=DURATION:PT1H
X-Robots-Tag:noindex
X-PUBLISHED-TTL:PT1H
BEGIN:VTIMEZONE
TZID:UTC
BEGIN:STANDARD
TZOFFSETFROM:+0000
TZOFFSETTO:+0000
TZNAME:UTC
DTSTART:20240101T000000
END:STANDARD
END:VTIMEZONE
BEGIN:VEVENT
DTSTART;TZID=UTC:20251230T121500
DTEND;TZID=UTC:20251230T130000
DTSTAMP:20260425T145130
CREATED:20251222T161040Z
LAST-MODIFIED:20251230T120812Z
UID:25622-1767096900-1767099600@kentandsussexcrematorium.com
SUMMARY:James David Keyes
DESCRIPTION:
URL:https://kentandsussexcrematorium.com/service/james-david-keyes/
LOCATION:Crematorium Chapel
CATEGORIES:Cremation Service
END:VEVENT
BEGIN:VEVENT
DTSTART;TZID=UTC:20251230T130000
DTEND;TZID=UTC:20251230T134500
DTSTAMP:20260425T145130
CREATED:20251222T161040Z
LAST-MODIFIED:20251230T120810Z
UID:25621-1767099600-1767102300@kentandsussexcrematorium.com
SUMMARY:John Rudd
DESCRIPTION:
URL:https://kentandsussexcrematorium.com/service/john-rudd/
LOCATION:Crematorium Chapel
CATEGORIES:Cremation Service
END:VEVENT
END:VCALENDAR