BEGIN:VCALENDAR
VERSION:2.0
PRODID:-//Kent and Sussex Crematorium - ECPv6.15.14//NONSGML v1.0//EN
CALSCALE:GREGORIAN
METHOD:PUBLISH
X-ORIGINAL-URL:https://kentandsussexcrematorium.com
X-WR-CALDESC:Events for Kent and Sussex Crematorium
REFRESH-INTERVAL;VALUE=DURATION:PT1H
X-Robots-Tag:noindex
X-PUBLISHED-TTL:PT1H
BEGIN:VTIMEZONE
TZID:UTC
BEGIN:STANDARD
TZOFFSETFROM:+0000
TZOFFSETTO:+0000
TZNAME:UTC
DTSTART:20240101T000000
END:STANDARD
END:VTIMEZONE
BEGIN:VEVENT
DTSTART;TZID=UTC:20251222T104500
DTEND;TZID=UTC:20251222T113000
DTSTAMP:20260426T042552
CREATED:20251219T122428Z
LAST-MODIFIED:20251222T151024Z
UID:25593-1766400300-1766403000@kentandsussexcrematorium.com
SUMMARY:Grahame Victor James Weston
DESCRIPTION:
URL:https://kentandsussexcrematorium.com/service/grahame-victor-james-weston/
LOCATION:Crematorium Chapel
CATEGORIES:Cremation Service
END:VEVENT
BEGIN:VEVENT
DTSTART;TZID=UTC:20251222T113000
DTEND;TZID=UTC:20251222T121500
DTSTAMP:20260426T042552
CREATED:20251219T122425Z
LAST-MODIFIED:20251222T151024Z
UID:25592-1766403000-1766405700@kentandsussexcrematorium.com
SUMMARY:Susan Patricia Parsons
DESCRIPTION:
URL:https://kentandsussexcrematorium.com/service/susan-patricia-parsons/
LOCATION:Crematorium Chapel
CATEGORIES:Cremation Service
END:VEVENT
BEGIN:VEVENT
DTSTART;TZID=UTC:20251222T120000
DTEND;TZID=UTC:20251222T130000
DTSTAMP:20260426T042552
CREATED:20251219T122425Z
LAST-MODIFIED:20251222T151024Z
UID:25591-1766404800-1766408400@kentandsussexcrematorium.com
SUMMARY:Asuncion Sarkozi-Escriva
DESCRIPTION:
URL:https://kentandsussexcrematorium.com/service/asuncion-sarkozi-escriva/
LOCATION:Cemetery Chapel
CATEGORIES:Cremation Service
END:VEVENT
BEGIN:VEVENT
DTSTART;TZID=UTC:20251222T121500
DTEND;TZID=UTC:20251222T130000
DTSTAMP:20260426T042552
CREATED:20251219T122425Z
LAST-MODIFIED:20251222T151022Z
UID:25590-1766405700-1766408400@kentandsussexcrematorium.com
SUMMARY:Trevor Graham Potts
DESCRIPTION:
URL:https://kentandsussexcrematorium.com/service/trevor-graham-potts/
LOCATION:Crematorium Chapel
CATEGORIES:Cremation Service
END:VEVENT
BEGIN:VEVENT
DTSTART;TZID=UTC:20251222T143000
DTEND;TZID=UTC:20251222T151500
DTSTAMP:20260426T042552
CREATED:20251219T122424Z
LAST-MODIFIED:20251222T151022Z
UID:25589-1766413800-1766416500@kentandsussexcrematorium.com
SUMMARY:Valerie Crush
DESCRIPTION:
URL:https://kentandsussexcrematorium.com/service/valerie-crush/
LOCATION:Crematorium Chapel
CATEGORIES:Cremation Service
END:VEVENT
BEGIN:VEVENT
DTSTART;TZID=UTC:20251222T151500
DTEND;TZID=UTC:20251222T160000
DTSTAMP:20260426T042552
CREATED:20251219T122424Z
LAST-MODIFIED:20251222T151022Z
UID:25588-1766416500-1766419200@kentandsussexcrematorium.com
SUMMARY:Alfred Sidney Floyd Baker
DESCRIPTION:
URL:https://kentandsussexcrematorium.com/service/alfred-sidney-floyd-baker/
LOCATION:Crematorium Chapel
CATEGORIES:Cremation Service
END:VEVENT
END:VCALENDAR